BEGIN:VCALENDAR
VERSION:2.0
PRODID:SFPL Web Calendar
BEGIN:VEVENT
UID:57897@sfpl.org
DTSTAMP:20230510T210000Z
DTSTART:20230510T210000Z
DTEND:20230510T220000Z
SUMMARY:Presentation: Become a San Francisco Green Business
DESCRIPTION:<p>Learn how to become a Green Business in San Francisco.&nbsp; It's free!&nbsp; Benefits include:&nbsp;</p>

<ul>
	<li>
	<p>Get connected to incentives, free technical assistance, expert audits, rebates, and educational resources&nbsp;</p>
	</li>
	<li>
	<p>Save money and attract more customers&nbsp;</p>
	</li>
	<li>
	<p>Showcase your greening practices to other businesses, customers, and the larger community&nbsp;</p>
	</li>
</ul>

<p>Presented by the San Francisco Department of the Environment.&nbsp;</p>

<p>Connect: <a href="https://sfenvironment.org/sfgreenbusiness">San Francisco Department of the Environment (SF Environment)</a> - Website&nbsp;</p>
LOCATION:Virtual Library
CLASS:PUBLIC
TRANSP:TRANSPARENT
END:VEVENT
BEGIN:VALARM
TRIGGER:-PT1440M
ACTION:DISPLAY
DESCRIPTION:Event Reminder - Presentation: Become a San Francisco Green Business
END:VALARM
END:VCALENDAR