BEGIN:VCALENDAR
VERSION:2.0
PRODID:SFPL Web Calendar
BEGIN:VEVENT
UID:57916@sfpl.org
DTSTAMP:20230427T013000Z
DTSTART:20230427T013000Z
DTEND:20230427T023000Z
SUMMARY:Author: Leslie Kirk Campbell
DESCRIPTION:<p>Author Leslie&nbsp;Kirk Campbell reads from her short story collection <a href="https://sfpl.bibliocommons.com/v2/record/S93C5138150"><em>The Man with Eight Pairs of Legs</em></a>.</p>

<p><strong>Leslie Kirk Campbell</strong> is a Noe Valley author who teaches at <a href="http://www.ripefruitwriting.com/">Ripe Fruit Writing</a>, a creative writing program she founded in Noe Valley in 1991. <a href="https://sfpl.bibliocommons.com/v2/record/S93C5138150"><em>The Man with Eight Pairs of Legs</em></a>&nbsp;won the 2020 Mary McCarthy Prize for Short Fiction, was&nbsp;a 2022 Great Group Reads Selection by the Women's National Book Association&nbsp;and was a finalist for the&nbsp;American Book Fest&nbsp;2022&nbsp;Best Book Awards.</p>

<p>Books available at the event by Folio Books.</p>

<p><strong>Connect:</strong></p>

<p><a href="https://lesliekirkcampbell.com/">Leslie Kirk Campbell Official Website</a>&nbsp;| <a href="https://www.instagram.com/lesliekirkcampbell/">Leslie Kirk Campbell Instagram</a></p>
LOCATION:Noe Valley/Sally Brunn - Noe Valley Meeting Room
CLASS:PUBLIC
TRANSP:TRANSPARENT
END:VEVENT
BEGIN:VALARM
TRIGGER:-PT1440M
ACTION:DISPLAY
DESCRIPTION:Event Reminder - Author: Leslie Kirk Campbell
END:VALARM
END:VCALENDAR