BEGIN:VCALENDAR
VERSION:2.0
PRODID:SFPL Web Calendar
BEGIN:VEVENT
UID:58129@sfpl.org
DTSTAMP:20230520T170000Z
DTSTART:20230520T170000Z
DTEND:20230520T230000Z
SUMMARY:Celebration: Open House
DESCRIPTION:<p>Join us as we celebrate the&nbsp;9th&nbsp;anniversary since our reopening in 2014. Come meet our fabulous staff, browse our Beat collection and enjoy the stunning views upstairs. We will have events and activities for families, animal lovers, music enthusiasts and City explorers.</p>

<p>No registration is required to attend the event, but if you'd like to volunteer to help greet and guide at this event,&nbsp;<a href="https://forms.office.com/g/JS5ZZWH9Ep">please sign up here</a>.<br />
<br />
<strong>Events Schedule:</strong></p>

<p><strong>10:00-11:00 a.m. Chinese Fortune Cookies and the Community</strong><br />
Learn how Chinese fortune cookies are made. Discover the history, stories and symbolism of the cookies. Owner of <a href="https://www.goldengatefortunecookies.com/">Golden Gate Fortune Cookies Factory</a>, Kevin Chan, discusses the success of his bakery and the significance of the cookies to the community.</p>

<p><strong>10:30 a.m.-12:00 p.m. Walking Tour of North Beach &ndash; <a href="https://sfcityguides.org/">San Francisco City Guides</a></strong><br />
Learn about the food, culture and history of San Francisco&rsquo;s Little Italy, where early immigrants in the 1910s established the authentic Italian character that remains its defining quality. Discover famous landmarks, buildings and spectacular view of downtown and the unique charm of this vibrant neighborhood. Guide: Barbara Cannella.</p>

<p><strong>11:00-12:00 p.m. SF Fire Department Fire Truck Visit</strong><br />
Bring your littlest firefighter fan to see a fire truck and talk with San Francisco Fire Department (SFFD) firefighters. Listen to their fire safety talk and be amazed by the marvelous fire truck and equipment.<br />
<br />
<strong>12:00-1:00 p.m. Ballet Performance: Classic a la Mode&nbsp;&nbsp;&nbsp; </strong><br />
Enjoy a ballet performance by dancers from <a href="http://www.balletinfinity.com">Ballet Infinity</a> in classic ballet alongside&nbsp;beautiful, contemporary choreography. The performance emphasizes the purity and artistry in classical ballet. Instructor and founder of Ballet Infinity: Irene Liu.</p>

<p><strong>1:00-2:00 p.m. Bruce Lee&rsquo;s Exhibition and Collection</strong><br />
Join San Francisco resident, Jeff Chinn, as he shares Bruce Lee&rsquo;s life and legacy to the world. Chinn is the world&rsquo;s foremost Bruce Lee collector and has been collecting for 50 years. Today, Chinn is main lender of memorabilia and docent at the current We Are Bruce Lee exhibition in San Francisco Chinatown.</p>

<p><strong>2:00-2:30 pm. Ukulele&nbsp;Songs and Hula Dance</strong><br />
Enjoy a short performance by members of the Dolphin Uke Club and Dolphin Hula Dancers. They will be playing some popular songs and accompanying the dancers in a traditional hula.</p>

<p><strong>2:30-4:00 p.m. Walking Tour of North Beach &ndash; Librarian</strong><br />
Learn about the food, culture and history of San Francisco&rsquo;s Little Italy, where early immigrants in the 1910s established the authentic Italian character that remains its defining quality. Discover famous landmarks, buildings and a spectacular view of downtown and experience the unique charm of this vibrant neighborhood.<br />
<br />
&nbsp;</p>

<p>&nbsp;</p>

<p><br />
&nbsp;</p>
LOCATION:North Beach - North Beach Library Community Room
CLASS:PUBLIC
TRANSP:TRANSPARENT
END:VEVENT
BEGIN:VALARM
TRIGGER:-PT1440M
ACTION:DISPLAY
DESCRIPTION:Event Reminder - Celebration: Open House
END:VALARM
END:VCALENDAR