BEGIN:VCALENDAR
VERSION:2.0
PRODID:SFPL Web Calendar
BEGIN:VEVENT
UID:58282@sfpl.org
DTSTAMP:20230513T220000Z
DTSTART:20230513T220000Z
DTEND:20230513T230000Z
SUMMARY:Activity: Islamic Bookmarks
DESCRIPTION:<p>Create colorful Islamic patterned bookmarks to take home.&nbsp;</p>
LOCATION:Ortega - Ortega Meeting Room
CLASS:PUBLIC
TRANSP:TRANSPARENT
END:VEVENT
BEGIN:VALARM
TRIGGER:-PT1440M
ACTION:DISPLAY
DESCRIPTION:Event Reminder - Activity: Islamic Bookmarks
END:VALARM
END:VCALENDAR