BEGIN:VCALENDAR
VERSION:2.0
PRODID:SFPL Web Calendar
BEGIN:VEVENT
UID:58320@sfpl.org
DTSTAMP:20230518T010000Z
DTSTART:20230518T010000Z
DTEND:20230518T023000Z
SUMMARY:Film: Plus One
DESCRIPTION:<p>In order to survive a summer of wedding fever, longtime single friends, Ben (Jack Quaid) and Alice (Maya Erskine), agree to be each other's plus one at every wedding they've been invited to.</p>

<p><em>Plus One</em> is available in our libraries via <a href="https://sfpl.bibliocommons.com/item/show/3847768093">DVD and Blu-ray</a> as well as <a href="https://www.hoopladigital.com/title/12424915">streaming</a> with your library card and a free <a href="https://sfpl.libanswers.com/faq/129915">Hoopla</a> account.</p>

<p>2nd Floor Flix is Glen Park Branch's movie club for grownups. We watch a broad range of films, from classics to contemporaries, with a focus on exposing our audience to rising creatives, fan favorites and hopefully something new to you.</p>

<p>NR, 99 mins., 2019. Closed captions (CC) in English.</p>
LOCATION:Glen Park - Glen Park Meeting Room
CLASS:PUBLIC
TRANSP:TRANSPARENT
END:VEVENT
BEGIN:VALARM
TRIGGER:-PT1440M
ACTION:DISPLAY
DESCRIPTION:Event Reminder - Film: Plus One
END:VALARM
END:VCALENDAR