BEGIN:VCALENDAR
VERSION:2.0
PRODID:SFPL Web Calendar
BEGIN:VEVENT
UID:58366@sfpl.org
DTSTAMP:20230504T210000Z
DTSTART:20230504T210000Z
DTEND:20230504T220000Z
SUMMARY:Activity: Kusudama Origami
DESCRIPTION:<p>Use modular origami and glue to create beautiful flowers, which can be gathered in a bouquet or glued together to make a kusudama ornament.&nbsp;</p>
LOCATION:Portola - Portola Meeting Room
CLASS:PUBLIC
TRANSP:TRANSPARENT
END:VEVENT
BEGIN:VALARM
TRIGGER:-PT1440M
ACTION:DISPLAY
DESCRIPTION:Event Reminder - Activity: Kusudama Origami
END:VALARM
END:VCALENDAR