BEGIN:VCALENDAR
VERSION:2.0
PRODID:SFPL Web Calendar
BEGIN:VEVENT
UID:58609@sfpl.org
DTSTAMP:20230506T220000Z
DTSTART:20230506T220000Z
DTEND:20230506T233000Z
SUMMARY:Presentation: Secrets to Successful Succulent Landscaping
DESCRIPTION:<p>Learn the secrets to a successful, healthy and colorful succulent landscape from local <a href="https://smsf-mastergardeners.ucanr.edu/">Master Gardeners</a>, Janice Moody and Kimberly Swan. They discuss pre-planting considerations before you go out to buy a truckload of plants and then ponder where to put them, as well as&nbsp;provide garden design basics that include use of color, shapes, textures and heights, along with favorite recommendations for hardy landscape succulents that thrive in the Bay Area. &nbsp;</p>

<p><br />
Presenters:</p>

<p><em>Janice Moody</em> has worn many hats over the years, but discovered her true calling&nbsp;when she became a UC <a href="https://smsf-mastergardeners.ucanr.edu/">Master Gardener</a> in 2010. This led to her starting a nursery and garden design business in Half Moon Bay in 2016&mdash;"Seascapes Succulent Nursery & Garden Design&rdquo;. She loves sharing her gardening enthusiasm and knowledge with the public.<br />
<br />
Have gardening questions? Call the <a href="https://smsf-mastergardeners.ucanr.edu/">Master Gardener</a> Helpline at (650) 276-7430 or&nbsp;send an email to mgsmsf@ucanr.edu.&nbsp;You can also visit the San Francisco Botanical Garden Library on Wednesdays, from 10:30 a.m. to 2 p.m. They are located at 1999 9th Avenue, San Francisco, CA 94122.&nbsp;</p>

<p>&nbsp;</p>
LOCATION:North Beach - North Beach Library Community Room
CLASS:PUBLIC
TRANSP:TRANSPARENT
END:VEVENT
BEGIN:VALARM
TRIGGER:-PT1440M
ACTION:DISPLAY
DESCRIPTION:Event Reminder - Presentation: Secrets to Successful Succulent Landscaping
END:VALARM
END:VCALENDAR