BEGIN:VCALENDAR
VERSION:2.0
PRODID:SFPL Web Calendar
BEGIN:VEVENT
UID:58674@sfpl.org
DTSTAMP:20230503T230000Z
DTSTART:20230503T230000Z
DTEND:20230504T010000Z
SUMMARY:Film: Blue Bayou
DESCRIPTION:<p>A Korean-American man raised in the Louisiana bayou must confront the ghosts of his past as he discovers that he could be deported from the only country he has ever called home.&nbsp;</p>

<p>R, 119 mins., 2022.&nbsp;Closed captions (CC) in English.</p>
LOCATION:Ocean View - Ocean View Meeting Room
CLASS:PUBLIC
TRANSP:TRANSPARENT
END:VEVENT
BEGIN:VALARM
TRIGGER:-PT1440M
ACTION:DISPLAY
DESCRIPTION:Event Reminder - Film: Blue Bayou
END:VALARM
END:VCALENDAR