BEGIN:VCALENDAR
VERSION:2.0
PRODID:SFPL Web Calendar
BEGIN:VEVENT
UID:58895@sfpl.org
DTSTAMP:20230511T223000Z
DTSTART:20230511T223000Z
DTEND:20230512T003000Z
SUMMARY:Workshop: Rock Painting
DESCRIPTION:<p>Decorate a rock for the <em>Glen Park Artists Rock!</em>&nbsp;collection under the Burnside Mural. If you've already painted a rock at home, we'll have sealant and paint pens for your final touches.</p>

<p>This program is best for ages 8&nbsp;and older.</p>

<p>&nbsp;</p>
LOCATION:Glen Park - Glen Park Meeting Room
CLASS:PUBLIC
TRANSP:TRANSPARENT
END:VEVENT
BEGIN:VALARM
TRIGGER:-PT1440M
ACTION:DISPLAY
DESCRIPTION:Event Reminder - Workshop: Rock Painting
END:VALARM
END:VCALENDAR