BEGIN:VCALENDAR
VERSION:2.0
PRODID:SFPL Web Calendar
BEGIN:VEVENT
UID:58912@sfpl.org
DTSTAMP:20230513T220000Z
DTSTART:20230513T220000Z
DTEND:20230513T230000Z
SUMMARY:Activity: Mother's Day Craft
DESCRIPTION:<p>Create a craft and make your own card for Mother's Day. For children and their families.</p>
LOCATION:Portola - Portola Meeting Room
CLASS:PUBLIC
TRANSP:TRANSPARENT
END:VEVENT
BEGIN:VALARM
TRIGGER:-PT1440M
ACTION:DISPLAY
DESCRIPTION:Event Reminder - Activity: Mother's Day Craft
END:VALARM
END:VCALENDAR