BEGIN:VCALENDAR
VERSION:2.0
PRODID:SFPL Web Calendar
BEGIN:VEVENT
UID:58917@sfpl.org
DTSTAMP:20230507T210000Z
DTSTART:20230507T210000Z
DTEND:20230507T223000Z
SUMMARY:Workshop: JavaScript for Beginners
DESCRIPTION:<p>Learn about p5.js, a fun Javascript library made accessible to everyone, especially beginners! We'll&nbsp;explore the basics of text-based coding and specific elements of p5.js while getting creative with individual projects. Ages 13&ndash;19.</p>

<p>This event is part of <a href="https://sfpl.org/locations/main-library/bridge-main-5th-floor/welcome-tech-week">SF Tech Week</a>.</p>

<p>Connect:&nbsp;</p>

<p>Mission Bit <a href="https://www.missionbit.org/">website</a>&nbsp;| <a href="https://twitter.com/missionbit">Twitter</a> | <a href="https://www.instagram.com/missionbit/">Instagram</a>&nbsp;</p>
LOCATION:Main Library - Computer Training Center - 5th Fl
CLASS:PUBLIC
TRANSP:TRANSPARENT
END:VEVENT
BEGIN:VALARM
TRIGGER:-PT1440M
ACTION:DISPLAY
DESCRIPTION:Event Reminder - Workshop: JavaScript for Beginners
END:VALARM
END:VCALENDAR