BEGIN:VCALENDAR
VERSION:2.0
PRODID:SFPL Web Calendar
BEGIN:VEVENT
UID:58975@sfpl.org
DTSTAMP:20230510T220000Z
DTSTART:20230510T220000Z
DTEND:20230510T230000Z
SUMMARY:Activity: Pinecone Animals Craft
DESCRIPTION:<p>Learn how to create a pinecone animals. For ages 10-13.</p>
LOCATION:Ingleside - Ingleside Children's Area
CLASS:PUBLIC
TRANSP:TRANSPARENT
END:VEVENT
BEGIN:VALARM
TRIGGER:-PT1440M
ACTION:DISPLAY
DESCRIPTION:Event Reminder - Activity: Pinecone Animals Craft
END:VALARM
END:VCALENDAR