BEGIN:VCALENDAR
VERSION:2.0
PRODID:SFPL Web Calendar
BEGIN:VEVENT
UID:58986@sfpl.org
DTSTAMP:20230513T220000Z
DTSTART:20230513T220000Z
DTEND:20230513T230000Z
SUMMARY:Activity: KODO Water Painting
DESCRIPTION:<p>Create designs using water and a paintbrush that slowly dries and disappears, leaving space for new art to be created.&nbsp;For children and their families.</p>

<p>&nbsp;</p>
LOCATION:Bernal Heights - Bernal Heights Meeting Room
CLASS:PUBLIC
TRANSP:TRANSPARENT
END:VEVENT
BEGIN:VALARM
TRIGGER:-PT1440M
ACTION:DISPLAY
DESCRIPTION:Event Reminder - Activity: KODO Water Painting
END:VALARM
END:VCALENDAR