BEGIN:VCALENDAR
VERSION:2.0
PRODID:SFPL Web Calendar
BEGIN:VEVENT
UID:58987@sfpl.org
DTSTAMP:20230722T200000Z
DTSTART:20230722T200000Z
DTEND:20230722T204500Z
SUMMARY:Workshop: It's Yoga Kids
DESCRIPTION:<p>Foster health and wellness in children and a way to de-stress through a variety of yoga poses.&nbsp;</p>
LOCATION:Golden Gate Valley - Golden Gate Valley Meeting Room
CLASS:PUBLIC
TRANSP:TRANSPARENT
END:VEVENT
BEGIN:VALARM
TRIGGER:-PT1440M
ACTION:DISPLAY
DESCRIPTION:Event Reminder - Workshop: It's Yoga Kids
END:VALARM
END:VCALENDAR