BEGIN:VCALENDAR
VERSION:2.0
PRODID:SFPL Web Calendar
BEGIN:VEVENT
UID:59006@sfpl.org
DTSTAMP:20230503T210000Z
DTSTART:20230503T210000Z
DTEND:20230503T220000Z
SUMMARY:Tutorial: Learn Languages with Mango and Rosetta Stone
DESCRIPTION:<p>Find out more about learning languages using Mango and Rosetta Stone, including Asian and Pacific Island languages.</p>
LOCATION:Golden Gate Valley - Golden Gate Valley Meeting Room
CLASS:PUBLIC
TRANSP:TRANSPARENT
END:VEVENT
BEGIN:VALARM
TRIGGER:-PT1440M
ACTION:DISPLAY
DESCRIPTION:Event Reminder - Tutorial: Learn Languages with Mango and Rosetta Stone
END:VALARM
END:VCALENDAR