BEGIN:VCALENDAR
VERSION:2.0
PRODID:SFPL Web Calendar
BEGIN:VEVENT
UID:59011@sfpl.org
DTSTAMP:20230514T210000Z
DTSTART:20230514T210000Z
DTEND:20230514T220000Z
SUMMARY:Activity: Origami Bookmarks
DESCRIPTION:<p>Drop in to make some origami bookmarks. This craft is fast, easy and has room for creative license.</p>
LOCATION:Mission Bay - Mission Bay General Floor Area
CLASS:PUBLIC
TRANSP:TRANSPARENT
END:VEVENT
BEGIN:VALARM
TRIGGER:-PT1440M
ACTION:DISPLAY
DESCRIPTION:Event Reminder - Activity: Origami Bookmarks
END:VALARM
END:VCALENDAR