BEGIN:VCALENDAR
VERSION:2.0
PRODID:SFPL Web Calendar
BEGIN:VEVENT
UID:59147@sfpl.org
DTSTAMP:20230513T210000Z
DTSTART:20230513T210000Z
DTEND:20230513T214500Z
SUMMARY:Presentation: Classical Tea Art Ceremony and Tasting / 古典茶藝演示及品茶
DESCRIPTION:<p>The Dasen American Academy presents a classical tea art ceremony followed by a discussion of the historical and cultural significance of the practice. This program includes a small exhibit of traditional teapots, teacups and paper origami of different Chinese Han groups. Participants will have a chance to sample different types of tea provided during the program.&nbsp;<br />
<br />
美國德森學院將爲大家演示古典茶藝，並介紹茶藝的歷史和文化意義。本活動還包括漢民族的多種傳統茶壺、茶杯和摺紙的小展覽。參加者將有機會品嘗活動中所準備的不同茶類。&nbsp;</p>
LOCATION:Chinatown/Him Mark Lai - Chinatown Meeting Room
CLASS:PUBLIC
TRANSP:TRANSPARENT
END:VEVENT
BEGIN:VALARM
TRIGGER:-PT1440M
ACTION:DISPLAY
DESCRIPTION:Event Reminder - Presentation: Classical Tea Art Ceremony and Tasting / 古典茶藝演示及品茶
END:VALARM
END:VCALENDAR