BEGIN:VCALENDAR
VERSION:2.0
PRODID:SFPL Web Calendar
BEGIN:VEVENT
UID:59178@sfpl.org
DTSTAMP:20230506T200000Z
DTSTART:20230506T200000Z
DTEND:20230506T210000Z
SUMMARY:Presentation: Home Preparedness in Earthquake Country
DESCRIPTION:<p>Matt Springer, a professor in the UCSF Department of Medicine, will give a talk and slideshow about precautions that can be taken to lessen the damage from an earthquake at home and work.</p>
LOCATION:Mission Bay - Mission Bay Program Room
CLASS:PUBLIC
TRANSP:TRANSPARENT
END:VEVENT
BEGIN:VALARM
TRIGGER:-PT1440M
ACTION:DISPLAY
DESCRIPTION:Event Reminder - Presentation: Home Preparedness in Earthquake Country
END:VALARM
END:VCALENDAR