BEGIN:VCALENDAR
VERSION:2.0
PRODID:SFPL Web Calendar
BEGIN:VEVENT
UID:59248@sfpl.org
DTSTAMP:20230506T210000Z
DTSTART:20230506T210000Z
DTEND:20230506T220000Z
SUMMARY:Workshop: Tea Party Hat
DESCRIPTION:<p>Create your own "fascinator" a fancy little hat&nbsp;to wear during our afternoon tea party on May 13th.</p>
LOCATION:Bayview/Linda Brooks-Burton - Bayview Meeting Room
CLASS:PUBLIC
TRANSP:TRANSPARENT
END:VEVENT
BEGIN:VALARM
TRIGGER:-PT1440M
ACTION:DISPLAY
DESCRIPTION:Event Reminder - Workshop: Tea Party Hat
END:VALARM
END:VCALENDAR