BEGIN:VCALENDAR
VERSION:2.0
PRODID:SFPL Web Calendar
BEGIN:VEVENT
UID:59372@sfpl.org
DTSTAMP:20230506T213000Z
DTSTART:20230506T213000Z
DTEND:20230506T223000Z
SUMMARY:Presentation: Classical Tea Ceremony and Tasting
DESCRIPTION:<p>The Dasen American Academy presents a classical tea art ceremony followed by a discussion of the historical and cultural significance of the practice. This program includes a small exhibit of traditional teapots, teacups and paper origami of different Chinese Han groups. Participants will have a chance to sample different types of tea provided during the program.&nbsp;</p>
LOCATION:Anza - Anza Meeting Room
CLASS:PUBLIC
TRANSP:TRANSPARENT
END:VEVENT
BEGIN:VALARM
TRIGGER:-PT1440M
ACTION:DISPLAY
DESCRIPTION:Event Reminder - Presentation: Classical Tea Ceremony and Tasting
END:VALARM
END:VCALENDAR