BEGIN:VCALENDAR
VERSION:2.0
PRODID:SFPL Web Calendar
BEGIN:VEVENT
UID:59614@sfpl.org
DTSTAMP:20230513T210000Z
DTSTART:20230513T210000Z
DTEND:20230513T213000Z
SUMMARY:Performance: Rahiti
DESCRIPTION:<p>Hālau Hula O Keli&rsquo;ikoanuiokeao/RAHITI is a Bay Area known hālau (group) that performs and educates dances and language from the Polynesian Islands. Each dancer is&nbsp;taught to respect and instill the cultures that they learn about. Let them&nbsp;take you to the Islands of the South Pacific!</p>
LOCATION:Western Addition - Western Addition General Floor Area
CLASS:PUBLIC
TRANSP:TRANSPARENT
END:VEVENT
BEGIN:VALARM
TRIGGER:-PT1440M
ACTION:DISPLAY
DESCRIPTION:Event Reminder - Performance: Rahiti
END:VALARM
END:VCALENDAR