BEGIN:VCALENDAR
VERSION:2.0
PRODID:SFPL Web Calendar
BEGIN:VEVENT
UID:59630@sfpl.org
DTSTAMP:20230506T213000Z
DTSTART:20230506T213000Z
DTEND:20230506T220000Z
SUMMARY:Storytime: Kamishibai
DESCRIPTION:<p>The branch's own Japanese language librarian will be weaving&nbsp;a story with kamishibai, the Japanese art of paper theatre. She'll be reading in original Japanese and translating into English. Come for the story, stay for the treats and activity. Enjoy!&nbsp;&nbsp;</p>
LOCATION:Western Addition - Western Addition Meeting Room
CLASS:PUBLIC
TRANSP:TRANSPARENT
END:VEVENT
BEGIN:VALARM
TRIGGER:-PT1440M
ACTION:DISPLAY
DESCRIPTION:Event Reminder - Storytime: Kamishibai
END:VALARM
END:VCALENDAR