BEGIN:VCALENDAR
VERSION:2.0
PRODID:SFPL Web Calendar
BEGIN:VEVENT
UID:59732@sfpl.org
DTSTAMP:20230501T210000Z
DTSTART:20230501T210000Z
DTEND:20230501T220000Z
SUMMARY:Workshop: Chair-based Yoga with Mark Cormier
DESCRIPTION:<p>With a focus on connecting breath and movement, this chair-based yoga class for seniors calms the mind while keeping the practice safe. Mark Cormier has been teaching for 15 years and led chair yoga workshops for the San Francisco Public Library since 2009.</p>

<p>Space limited. Reservations required: (415) 355-5707.</p>

<p>&nbsp;</p>
LOCATION:Noe Valley/Sally Brunn - Noe Valley Meeting Room
CLASS:PUBLIC
TRANSP:TRANSPARENT
END:VEVENT
BEGIN:VALARM
TRIGGER:-PT1440M
ACTION:DISPLAY
DESCRIPTION:Event Reminder - Workshop: Chair-based Yoga with Mark Cormier
END:VALARM
END:VCALENDAR