BEGIN:VCALENDAR
VERSION:2.0
PRODID:SFPL Web Calendar
BEGIN:VEVENT
UID:59741@sfpl.org
DTSTAMP:20230504T220000Z
DTSTART:20230504T220000Z
DTEND:20230504T230000Z
SUMMARY:Workshop: Star Wars Paper Crafts
DESCRIPTION:<p>Celebrate May 4th by creating various paper craft projects with a Star Wars theme.&nbsp;Costumes welcome!&nbsp;For ages 5 and older.&nbsp;</p>
LOCATION:Ingleside - Ingleside Children's Area
CLASS:PUBLIC
TRANSP:TRANSPARENT
END:VEVENT
BEGIN:VALARM
TRIGGER:-PT1440M
ACTION:DISPLAY
DESCRIPTION:Event Reminder - Workshop: Star Wars Paper Crafts
END:VALARM
END:VCALENDAR