BEGIN:VCALENDAR
VERSION:2.0
PRODID:SFPL Web Calendar
BEGIN:VEVENT
UID:59751@sfpl.org
DTSTAMP:20230525T230000Z
DTSTART:20230525T230000Z
DTEND:20230526T000000Z
SUMMARY:Workshop: Ruth Asawa Inspired Sculptural Wire Craft
DESCRIPTION:<p>Learn about Ruth Asawa's art and create your own small hanging wire sculpture.</p>

<p>For children and their families.</p>
LOCATION:Glen Park - Glen Park Meeting Room
CLASS:PUBLIC
TRANSP:TRANSPARENT
END:VEVENT
BEGIN:VALARM
TRIGGER:-PT1440M
ACTION:DISPLAY
DESCRIPTION:Event Reminder - Workshop: Ruth Asawa Inspired Sculptural Wire Craft
END:VALARM
END:VCALENDAR