BEGIN:VCALENDAR
VERSION:2.0
PRODID:SFPL Web Calendar
BEGIN:VEVENT
UID:59764@sfpl.org
DTSTAMP:20230723T210000Z
DTSTART:20230723T210000Z
DTEND:20230723T220000Z
SUMMARY:Workshop: Sugar Scrub
DESCRIPTION:<p>Make an exfoliating and hydrating body scrub with natural ingredients, including coconut oil, sugar and essential oils.</p>

<p>Space limited. Reservations required: (415) 355-5660.</p>
LOCATION:Portola - Portola Meeting Room
CLASS:PUBLIC
TRANSP:TRANSPARENT
END:VEVENT
BEGIN:VALARM
TRIGGER:-PT1440M
ACTION:DISPLAY
DESCRIPTION:Event Reminder - Workshop: Sugar Scrub
END:VALARM
END:VCALENDAR