BEGIN:VCALENDAR
VERSION:2.0
PRODID:SFPL Web Calendar
BEGIN:VEVENT
UID:59967@sfpl.org
DTSTAMP:20230610T190000Z
DTSTART:20230610T190000Z
DTEND:20230610T200000Z
SUMMARY:Performance: Golden Thread Fairytale Players
DESCRIPTION:<p>Watch a visually colorful performance adapted from folktales centered around the comedic personage, Nasrudin Hoja, a wise fool renowned in Central Asia, Turkey, Iran and the Arab world. The performance follows Nasrudin and his faithful donkey as they travel through caravansaries in Konya and Damascus where Nasrudin's clever wisdom and propensity for exposing hypocrisy frequently get him into trouble. For ages 5 and up.</p>
LOCATION:Western Addition - Western Addition Back Courtyard
CLASS:PUBLIC
TRANSP:TRANSPARENT
END:VEVENT
BEGIN:VALARM
TRIGGER:-PT1440M
ACTION:DISPLAY
DESCRIPTION:Event Reminder - Performance: Golden Thread Fairytale Players
END:VALARM
END:VCALENDAR