BEGIN:VCALENDAR
VERSION:2.0
PRODID:SFPL Web Calendar
BEGIN:VEVENT
UID:60154@sfpl.org
DTSTAMP:20230729T200000Z
DTSTART:20230729T200000Z
DTEND:20230729T213000Z
SUMMARY:Book Club: The Hungry Tide by Amitav Ghosh
DESCRIPTION:<p><a href="https://sfpl.bibliocommons.com/v2/record/S93C1927340"><em>The Hungry Tide</em></a> is a 2005 title by Amitav Ghosh that has become notable for its environmental and political themes. It has since become seen as Ghosh's early attempt to write a "climate-fiction" novel.</p>

<p>The book is<a href="https://sfpl.bibliocommons.com/v2/search?query=hungry+tide+amitav+ghosh&searchType=smart"> available in physical and digital formats</a>.</p>

<p>Brought to you by <a href="https://sfpl.org/locations/main-library/environmental-center">SFPL's Stegner Environmental Center</a>.</p>

<p>Light refreshments will be provided.</p>

<p>&nbsp;</p>
LOCATION:Main Library - Learning Studio - 5th Fl
CLASS:PUBLIC
TRANSP:TRANSPARENT
END:VEVENT
BEGIN:VALARM
TRIGGER:-PT1440M
ACTION:DISPLAY
DESCRIPTION:Event Reminder - Book Club: The Hungry Tide by Amitav Ghosh
END:VALARM
END:VCALENDAR