BEGIN:VCALENDAR
VERSION:2.0
PRODID:SFPL Web Calendar
BEGIN:VEVENT
UID:60178@sfpl.org
DTSTAMP:20230510T203000Z
DTSTART:20230510T203000Z
DTEND:20230510T223000Z
SUMMARY:Tutorial: Tech Support Pop–Up/ 技術幫助 /Ayuda Tecnologica
DESCRIPTION:<p>Calling older adults and people with disabilities: get one-on-one help with your technology questions. Assistance is available in English, Spanish and Cantonese.</p>

<p>老年人和殘障人士可獲得有關技術問題的幫助。 提供英語、西班牙語和粵語協助。</p>

<p>Los adultos mayores y las personas con discapacidad obtienen ayuda con sus preguntas sobre tecnolog&iacute;a. La asistencia est&aacute; disponible en ingl&eacute;s, espa&ntilde;ol y canton&eacute;s.</p>

<p>This program is part of <a href="https://sfpl.org/locations/main-library/bridge-main-5th-floor/welcome-tech-week">SF Tech Week</a>.&nbsp;</p>

<p>Connect: <a href="https://www.sftechcouncil.org/">SF Tech Council - website</a>&nbsp;| <a href="https://twitter.com/sftechcouncil?lang=en">SF Tech Council - Twitter</a>&nbsp;</p>
LOCATION:Excelsior - Excelsior Meeting Room
CLASS:PUBLIC
TRANSP:TRANSPARENT
END:VEVENT
BEGIN:VALARM
TRIGGER:-PT1440M
ACTION:DISPLAY
DESCRIPTION:Event Reminder - Tutorial: Tech Support Pop–Up/ 技術幫助 /Ayuda Tecnologica
END:VALARM
END:VCALENDAR