BEGIN:VCALENDAR
VERSION:2.0
PRODID:SFPL Web Calendar
BEGIN:VEVENT
UID:60225@sfpl.org
DTSTAMP:20230508T190000Z
DTSTART:20230508T190000Z
DTEND:20230508T200000Z
SUMMARY:Presentation: Small Business Digital Ready
DESCRIPTION:<p>Verizon Small Business Digital Ready is a free tool offering coaching, networking and grant opportunities.</p>

<p>The platform was developed in partnership with small business owners like you, who understand what it takes to succeed in the digital economy. The program is simple to use, with all the information available online in one place.</p>

<p>This event is part of <a href="https://sfpl.org/locations/main-library/bridge-main-5th-floor/welcome-tech-week">SF Tech Week</a>.</p>

<p>Connect: Small Business Digital Ready <a href="https://www.verizon.com/about/responsibility/digital-inclusion/small-business-training">website</a></p>
LOCATION:Virtual Library
CLASS:PUBLIC
TRANSP:TRANSPARENT
END:VEVENT
BEGIN:VALARM
TRIGGER:-PT1440M
ACTION:DISPLAY
DESCRIPTION:Event Reminder - Presentation: Small Business Digital Ready
END:VALARM
END:VCALENDAR