BEGIN:VCALENDAR
VERSION:2.0
PRODID:SFPL Web Calendar
BEGIN:VEVENT
UID:60226@sfpl.org
DTSTAMP:20230508T200000Z
DTSTART:20230508T200000Z
DTEND:20230508T213000Z
SUMMARY:Tutorial: Computer Basics Help Desk
DESCRIPTION:<p>Patient and skilled assistance with your computer questions.</p>

<p><a href="https://on.sfpl.org/tw23computerhelp">Join on Zoom</a>, or use Meeting ID&nbsp;872 1940 756, or dial in at (888) 475&ndash;4499.</p>

<p>This event is part of <a href="https://sfpl.org/locations/main-library/bridge-main-5th-floor/welcome-tech-week">SF Tech Week</a>.&nbsp;</p>

<p>Connect: Community Living Campaign&nbsp;<a href="https://sfcommunityliving.org/">website</a>&nbsp;|&nbsp;<a href="https://www.facebook.com/CommunityLivingCampaign/">Facebook</a>&nbsp;|&nbsp;<a href="https://twitter.com/CLCtweets">Twitter</a></p>
LOCATION:Virtual Library
CLASS:PUBLIC
TRANSP:TRANSPARENT
END:VEVENT
BEGIN:VALARM
TRIGGER:-PT1440M
ACTION:DISPLAY
DESCRIPTION:Event Reminder - Tutorial: Computer Basics Help Desk
END:VALARM
END:VCALENDAR