BEGIN:VCALENDAR
VERSION:2.0
PRODID:SFPL Web Calendar
BEGIN:VEVENT
UID:60227@sfpl.org
DTSTAMP:20230508T210000Z
DTSTART:20230508T210000Z
DTEND:20230508T223000Z
SUMMARY:Presentation: iOS 內置視頻編輯工具/iOS built–in video editing tools (Cantonese)
DESCRIPTION:<p>使用iOS蘋果iPad/iPhone原有的影片編輯功能去編輯圖片，比如剪切視頻，消除視頻聲音，加字體等等。不需要下載第三方軟件。粵語課程&nbsp;。</p>

<p>Apple users can learn video splitting, refinements, and other basic adjustments to the stored recordings.</p>

<p>This event is part of <a href="https://sfpl.org/locations/main-library/bridge-main-5th-floor/welcome-tech-week">SF Tech Week</a>.</p>

<p>Connect: Self-Help for the Eldery <a href="https://www.selfhelpelderly.org/">website</a>&nbsp;| <a href="https://www.facebook.com/selfhelpelderlyorg?_rdr=p">Facebook</a> | <a href="https://www.instagram.com/selfhelpelderly/">Instagram</a></p>
LOCATION:Virtual Library
CLASS:PUBLIC
TRANSP:TRANSPARENT
END:VEVENT
BEGIN:VALARM
TRIGGER:-PT1440M
ACTION:DISPLAY
DESCRIPTION:Event Reminder - Presentation: iOS 內置視頻編輯工具/iOS built–in video editing tools (Cantonese)
END:VALARM
END:VCALENDAR