BEGIN:VCALENDAR
VERSION:2.0
PRODID:SFPL Web Calendar
BEGIN:VEVENT
UID:60231@sfpl.org
DTSTAMP:20230508T210000Z
DTSTART:20230508T210000Z
DTEND:20230508T230000Z
SUMMARY:Tutorial: Computer Basics Part One
DESCRIPTION:<p>Get started on the computer and stay connected to family and friends. Learn how to explore the internet, use email and more in our easy, step-by-step class. Computer Basics Part Two will take place Tuesday, May 9, at 4 p.m.&nbsp;</p>

<p>Attendees will have a chance to win a refurbished laptop courtesy of <a href="https://www.techexchange.org/">Tech Exchange</a>. (One entry per household.)&nbsp;</p>

<p>This program is part of <a href="https://sfpl.org/locations/main-library/bridge-main-5th-floor/welcome-tech-week">SF Tech Week</a>.&nbsp;</p>

<p>Connect: Goodwill of the SF Bay <a href="https://sfgoodwill.org/">website</a>&nbsp;| <a href="https://twitter.com/sfbaygoodwill">Twitter</a> | <a href="https://www.instagram.com/sfbaygoodwill/">Instagram</a></p>
LOCATION:Main Library
CLASS:PUBLIC
TRANSP:TRANSPARENT
END:VEVENT
BEGIN:VALARM
TRIGGER:-PT1440M
ACTION:DISPLAY
DESCRIPTION:Event Reminder - Tutorial: Computer Basics Part One
END:VALARM
END:VCALENDAR