BEGIN:VCALENDAR
VERSION:2.0
PRODID:SFPL Web Calendar
BEGIN:VEVENT
UID:60233@sfpl.org
DTSTAMP:20230524T003000Z
DTSTART:20230524T003000Z
DTEND:20230524T023000Z
SUMMARY:Film: Blinded by the Light
DESCRIPTION:<p>A British teen of Pakistani descent in 1987 England finds his life changed by the music of Bruce Springsteen. Space limited.</p>

<p>PG-13, 118 min., 2019. Closed captions (CC) in English.</p>
LOCATION:Potrero - Potrero Meeting Room
CLASS:PUBLIC
TRANSP:TRANSPARENT
END:VEVENT
BEGIN:VALARM
TRIGGER:-PT1440M
ACTION:DISPLAY
DESCRIPTION:Event Reminder - Film: Blinded by the Light
END:VALARM
END:VCALENDAR