BEGIN:VCALENDAR
VERSION:2.0
PRODID:SFPL Web Calendar
BEGIN:VEVENT
UID:60259@sfpl.org
DTSTAMP:20230726T230000Z
DTSTART:20230726T230000Z
DTEND:20230727T000000Z
SUMMARY:Book Club: Golden Gate Valley Book Circle
DESCRIPTION:<p>We will be discussing <a href="https://sfpl.bibliocommons.com/v2/record/S93C4609000"><em>Klara and the Sun</em></a> by Nobel prize winning British author Kazuo Ishiguro. Please join us.</p>
LOCATION:Golden Gate Valley - Golden Gate Valley Meeting Room
CLASS:PUBLIC
TRANSP:TRANSPARENT
END:VEVENT
BEGIN:VALARM
TRIGGER:-PT1440M
ACTION:DISPLAY
DESCRIPTION:Event Reminder - Book Club: Golden Gate Valley Book Circle
END:VALARM
END:VCALENDAR