BEGIN:VCALENDAR
VERSION:2.0
PRODID:SFPL Web Calendar
BEGIN:VEVENT
UID:60302@sfpl.org
DTSTAMP:20230805T180000Z
DTSTART:20230805T180000Z
DTEND:20230805T183000Z
SUMMARY:Performance: Jimbo the Musical Clown
DESCRIPTION:<p>Jimbo the Musical Clown delights audiences of all ages with his accordion music from around the world, including some of his own compositions, along with circus skills, hat tricks, juggling, dance, pantomime and skits with audience participation at festivals and fairs up and down the west coast including Seattle's Bumbershoot Festival of the Arts. For children and their families.</p>
LOCATION:Presidio - Presidio Meeting Room
CLASS:PUBLIC
TRANSP:TRANSPARENT
END:VEVENT
BEGIN:VALARM
TRIGGER:-PT1440M
ACTION:DISPLAY
DESCRIPTION:Event Reminder - Performance: Jimbo the Musical Clown
END:VALARM
END:VCALENDAR