BEGIN:VCALENDAR
VERSION:2.0
PRODID:SFPL Web Calendar
BEGIN:VEVENT
UID:60351@sfpl.org
DTSTAMP:20230726T210000Z
DTSTART:20230726T210000Z
DTEND:20230726T220000Z
SUMMARY:Workshop: Slime
DESCRIPTION:<p>Flex your inner chemist skills and mix household ingredients to make slime.&nbsp;For ages 7&nbsp;and older.</p>
LOCATION:Sunset - Sunset Program Room
CLASS:PUBLIC
TRANSP:TRANSPARENT
END:VEVENT
BEGIN:VALARM
TRIGGER:-PT1440M
ACTION:DISPLAY
DESCRIPTION:Event Reminder - Workshop: Slime
END:VALARM
END:VCALENDAR