BEGIN:VCALENDAR
VERSION:2.0
PRODID:SFPL Web Calendar
BEGIN:VEVENT
UID:60362@sfpl.org
DTSTAMP:20230509T200000Z
DTSTART:20230509T200000Z
DTEND:20230509T220000Z
SUMMARY:Presentation: 網絡安全和在線詐騙 （國）/Cybersecurity and Online Scams (Mandarin)
DESCRIPTION:<p>了解常見常見電子欺詐類型以及如何發現及處理網路釣魚信息。</p>

<p>Learn common types of online fraud and how to spot phishing.</p>

<p>&nbsp;</p>
LOCATION:Virtual Library
CLASS:PUBLIC
TRANSP:TRANSPARENT
END:VEVENT
BEGIN:VALARM
TRIGGER:-PT1440M
ACTION:DISPLAY
DESCRIPTION:Event Reminder - Presentation: 網絡安全和在線詐騙 （國）/Cybersecurity and Online Scams (Mandarin)
END:VALARM
END:VCALENDAR