BEGIN:VCALENDAR
VERSION:2.0
PRODID:SFPL Web Calendar
BEGIN:VEVENT
UID:60364@sfpl.org
DTSTAMP:20230509T173000Z
DTSTART:20230509T173000Z
DTEND:20230509T190000Z
SUMMARY:Tutorial: Learn Anything Online
DESCRIPTION:<p>Explore how and where to access top-notch, free educational resources online for all ages.&nbsp;</p>

<p>Masks and vaccine proof required.</p>

<p>This event is part of <a href="https://sfpl.org/locations/main-library/bridge-main-5th-floor/welcome-tech-week">SF Tech Week</a>&nbsp;</p>

<p>Connect: Community Living Campaign <a href="https://communitytechnetwork.org/">website</a>&nbsp;| <a href="https://twitter.com/commtechnetwork">Twitter</a> | <a href="https://www.facebook.com/CommunityTechNetwork/">Facebook</a></p>

<p>&nbsp;</p>
LOCATION:Main Library
CLASS:PUBLIC
TRANSP:TRANSPARENT
END:VEVENT
BEGIN:VALARM
TRIGGER:-PT1440M
ACTION:DISPLAY
DESCRIPTION:Event Reminder - Tutorial: Learn Anything Online
END:VALARM
END:VCALENDAR