BEGIN:VCALENDAR
VERSION:2.0
PRODID:SFPL Web Calendar
BEGIN:VEVENT
UID:60366@sfpl.org
DTSTAMP:20230722T210000Z
DTSTART:20230722T210000Z
DTEND:20230722T230000Z
SUMMARY:Social: YELL Presents Summer Lego Festival
DESCRIPTION:<p>Receive a prize for finishing 3 Lego challenges in the Portola Summer Lego Festival.</p>

<p>Our Youth Engaged in Library Leadership (YELL) interns have been working hard all summer to prepare a surprise community event. Come and support your local high school teens<strong>.</strong></p>
LOCATION:Portola - Portola Meeting Room
CLASS:PUBLIC
TRANSP:TRANSPARENT
END:VEVENT
BEGIN:VALARM
TRIGGER:-PT1440M
ACTION:DISPLAY
DESCRIPTION:Event Reminder - Social: YELL Presents Summer Lego Festival
END:VALARM
END:VCALENDAR