BEGIN:VCALENDAR
VERSION:2.0
PRODID:SFPL Web Calendar
BEGIN:VEVENT
UID:60382@sfpl.org
DTSTAMP:20230729T230000Z
DTSTART:20230729T230000Z
DTEND:20230730T000000Z
SUMMARY:Workshop: Seed Balls with Fog City Gardener 霧城園丁的種子球
DESCRIPTION:<p>Use recycled paper and plant seeds to make seed balls. Take it with you to start your own urban garden. Space limited, reservations required: (415) 355-2888. For ages 5 and older.</p>

<p>用回收紙及植物種子做種子球, 帶上它開始你的城市花園. 名額有限, 請預先報名. 請致電: (415) 355-2888. 年齡為五歲以上.</p>
LOCATION:Chinatown/Him Mark Lai - Chinatown Meeting Room
CLASS:PUBLIC
TRANSP:TRANSPARENT
END:VEVENT
BEGIN:VALARM
TRIGGER:-PT1440M
ACTION:DISPLAY
DESCRIPTION:Event Reminder - Workshop: Seed Balls with Fog City Gardener 霧城園丁的種子球
END:VALARM
END:VCALENDAR