BEGIN:VCALENDAR
VERSION:2.0
PRODID:SFPL Web Calendar
BEGIN:VEVENT
UID:60388@sfpl.org
DTSTAMP:20230510T200000Z
DTSTART:20230510T200000Z
DTEND:20230510T220000Z
SUMMARY:Presentation: 網上銀行：存入支票 （粵） / Online Banking: Deposit a Check (Cantonese)
DESCRIPTION:<p>學習及了解將支票存入賬戶的應用過程（例如華美銀行，大通銀行，美國銀行）。 粵語授課。</p>

<p>Using online banking applications (from East West Bank, Chase and Bank of America) learners will understand the process of depositing a check into their checking accounts. Instruction in Cantonese.</p>

<p>&nbsp;</p>
LOCATION:Virtual Library
CLASS:PUBLIC
TRANSP:TRANSPARENT
END:VEVENT
BEGIN:VALARM
TRIGGER:-PT1440M
ACTION:DISPLAY
DESCRIPTION:Event Reminder - Presentation: 網上銀行：存入支票 （粵） / Online Banking: Deposit a Check (Cantonese)
END:VALARM
END:VCALENDAR