BEGIN:VCALENDAR
VERSION:2.0
PRODID:SFPL Web Calendar
BEGIN:VEVENT
UID:60390@sfpl.org
DTSTAMP:20230510T223000Z
DTSTART:20230510T223000Z
DTEND:20230511T003000Z
SUMMARY:Tutorial: Android Help Desk
DESCRIPTION:<p>Patient and skilled assistance with your Android smartphone or tablet. Bring your questions!</p>

<p>This event is part of&nbsp;<a href="https://sfpl.org/locations/main-library/bridge-main-5th-floor/welcome-tech-week">SF Tech Week</a>&nbsp;</p>

<p>Connect: Community Living Campaign&nbsp;<a href="https://communitytechnetwork.org/">website</a>&nbsp;|&nbsp;<a href="https://twitter.com/commtechnetwork">Twitter</a>&nbsp;|&nbsp;<a href="https://www.facebook.com/CommunityTechNetwork/">Facebook</a></p>
LOCATION:Virtual Library
CLASS:PUBLIC
TRANSP:TRANSPARENT
END:VEVENT
BEGIN:VALARM
TRIGGER:-PT1440M
ACTION:DISPLAY
DESCRIPTION:Event Reminder - Tutorial: Android Help Desk
END:VALARM
END:VCALENDAR