BEGIN:VCALENDAR
VERSION:2.0
PRODID:SFPL Web Calendar
BEGIN:VEVENT
UID:60457@sfpl.org
DTSTAMP:20230512T003000Z
DTSTART:20230512T003000Z
DTEND:20230512T023000Z
SUMMARY:Workshop: Email Basics
DESCRIPTION:<p>Learn and set up an email account. Learn how to create and send an email, use attachments, save files in the cloud as well as basic internet safety measures.</p>

<p>Attendees at this event will receive a refurbished Chromebook courtesy of Tech Exchange.&nbsp;</p>

<p>Space is limited.&nbsp;Registration required:&nbsp;(415) 355-2848.</p>

<p>Limit to 1 sign-up per household and/or family.</p>

<p>Connect: Tech Exchange <a href="https://www.techexchange.org/">website</a>&nbsp;| <a href="https://www.facebook.com/techXorg/">Facebook</a>&nbsp;| <a href="https://twitter.com/techxorg">Twitter</a></p>
LOCATION:Visitacion Valley - Visitacion Valley Meeting Room
CLASS:PUBLIC
TRANSP:TRANSPARENT
END:VEVENT
BEGIN:VALARM
TRIGGER:-PT1440M
ACTION:DISPLAY
DESCRIPTION:Event Reminder - Workshop: Email Basics
END:VALARM
END:VCALENDAR