BEGIN:VCALENDAR
VERSION:2.0
PRODID:SFPL Web Calendar
BEGIN:VEVENT
UID:60500@sfpl.org
DTSTAMP:20230722T210000Z
DTSTART:20230722T210000Z
DTEND:20230722T220000Z
SUMMARY:Social: Vegan Tasty
DESCRIPTION:<p>We'll craft&nbsp;these delicious, little vegan gems by hand. Learn about its history. For ages 13&ndash;18&nbsp;only.</p>
LOCATION:Merced - Merced General Floor Area
CLASS:PUBLIC
TRANSP:TRANSPARENT
END:VEVENT
BEGIN:VALARM
TRIGGER:-PT1440M
ACTION:DISPLAY
DESCRIPTION:Event Reminder - Social: Vegan Tasty
END:VALARM
END:VCALENDAR