BEGIN:VCALENDAR
VERSION:2.0
PRODID:SFPL Web Calendar
BEGIN:VEVENT
UID:60557@sfpl.org
DTSTAMP:20230729T210000Z
DTSTART:20230729T210000Z
DTEND:20230729T230000Z
SUMMARY:Workshop: Mini Succulent Garden
DESCRIPTION:<p>Learn to make a mini succulent garden in a pot with provided plants.</p>

<p>Space limited. Reservations required: (415) 355-5615.</p>
LOCATION:Ocean View - Ocean View Meeting Room
CLASS:PUBLIC
TRANSP:TRANSPARENT
END:VEVENT
BEGIN:VALARM
TRIGGER:-PT1440M
ACTION:DISPLAY
DESCRIPTION:Event Reminder - Workshop: Mini Succulent Garden
END:VALARM
END:VCALENDAR