BEGIN:VCALENDAR
VERSION:2.0
PRODID:SFPL Web Calendar
BEGIN:VEVENT
UID:60599@sfpl.org
DTSTAMP:20230723T210000Z
DTSTART:20230723T210000Z
DTEND:20230723T224500Z
SUMMARY:Film: The Secret Garden
DESCRIPTION:<p><em>The Secret Garden</em> is a mesmerizing fable of regeneration. When ten-year-old orphan Mary discovers and restores a secret garden&nbsp;with her invalid cousin and friends, their bodies and souls are rejuvenated.&nbsp;Space limited.&nbsp;</p>

<p>&nbsp;</p>

<p>Director: Agnieszka Holland</p>

<p>Actors: Kate Maberly, Maggie Smith, Heydon Prowse</p>

<p>Based on the book, <em>The Secret Garden</em>&nbsp;by Frances Hodges Burnett.</p>

<p>G, 101 min.,&nbsp;1993.&nbsp;Closed captions (CC) in English.</p>
LOCATION:Potrero - Potrero Meeting Room
CLASS:PUBLIC
TRANSP:TRANSPARENT
END:VEVENT
BEGIN:VALARM
TRIGGER:-PT1440M
ACTION:DISPLAY
DESCRIPTION:Event Reminder - Film: The Secret Garden
END:VALARM
END:VCALENDAR