BEGIN:VCALENDAR
VERSION:2.0
PRODID:SFPL Web Calendar
BEGIN:VEVENT
UID:60808@sfpl.org
DTSTAMP:20231005T230000Z
DTSTART:20231005T230000Z
DTEND:20231005T234500Z
SUMMARY:Workshop: Measure the Wind and LEGOs
DESCRIPTION:<p>Learn how to measure the wind with a device based on the designs of Italian Renaissance Man Leonardo Da Vinci.&nbsp;</p>

<p>October is the Italian American Heritage Month&nbsp;which celebrates and recognizes the distinguished contributions of Americans with Italian lineage.</p>

<p>We'll also have&nbsp;LEGOs&nbsp;galore for building.&nbsp;For ages 6&ndash;8.<br />
<br />
<br />
&nbsp;</p>
LOCATION:North Beach - North Beach Library Community Room
CLASS:PUBLIC
TRANSP:TRANSPARENT
END:VEVENT
BEGIN:VALARM
TRIGGER:-PT1440M
ACTION:DISPLAY
DESCRIPTION:Event Reminder - Workshop: Measure the Wind and LEGOs
END:VALARM
END:VCALENDAR