BEGIN:VCALENDAR
VERSION:2.0
PRODID:SFPL Web Calendar
BEGIN:VEVENT
UID:60814@sfpl.org
DTSTAMP:20230513T170000Z
DTSTART:20230513T170000Z
DTEND:20230513T230000Z
SUMMARY:Tutorial: Tenderloin Technology Workshops
DESCRIPTION:<p>A day of learning, with four 45-minute workshops throughout the day:</p>

<ul>
	<li>Intro to Smartphones</li>
	<li>How to use Google Maps</li>
	<li>How to Use Google Translate & Microsoft Translate</li>
	<li>Internet Safety & Security</li>
</ul>

<p>End the day with 45 min of one-on-one help (optional). <strong>Attendees at the first four sessions will have a chance to win a refurbished chromebook courtesy of Tech Exchange!&nbsp;</strong></p>

<p>Registration required: (415) 592-2766. Masks highly recommended.&nbsp;</p>

<p>This event is part of <a href="https://sfpl.org/locations/main-library/bridge-main-5th-floor/welcome-tech-week">SF Tech Week</a>.&nbsp;</p>

<p>&nbsp;</p>
LOCATION:Main Library
CLASS:PUBLIC
TRANSP:TRANSPARENT
END:VEVENT
BEGIN:VALARM
TRIGGER:-PT1440M
ACTION:DISPLAY
DESCRIPTION:Event Reminder - Tutorial: Tenderloin Technology Workshops
END:VALARM
END:VCALENDAR