BEGIN:VCALENDAR
VERSION:2.0
PRODID:SFPL Web Calendar
BEGIN:VEVENT
UID:60989@sfpl.org
DTSTAMP:20230729T173000Z
DTSTART:20230729T173000Z
DTEND:20230729T183000Z
SUMMARY:Workshop: Mending Library
DESCRIPTION:<p>Extend the life of your clothing.&nbsp;Tools, supplies, resources&nbsp;and inspiration will be provided to repair and re-wear your clothes.</p>

<p>A partnership with the <a href="https://www.objectsofconversation.com/the-mending-library">Mending Library</a>.</p>
LOCATION:Bayview/Linda Brooks-Burton - Bayview General Floor Area
CLASS:PUBLIC
TRANSP:TRANSPARENT
END:VEVENT
BEGIN:VALARM
TRIGGER:-PT1440M
ACTION:DISPLAY
DESCRIPTION:Event Reminder - Workshop: Mending Library
END:VALARM
END:VCALENDAR